BEGIN:VCALENDAR
PRODID:-//eluceo/ical//2.0/EN
VERSION:2.0
CALSCALE:GREGORIAN
BEGIN:VEVENT
UID:064bbfd11fa89206c32b4df0e9f26e99
DTSTAMP:20260419T195937Z
SUMMARY:Violence Gratuite + Daisy Ray + eiedma
DESCRIPTION:
DTSTART;VALUE=DATE:20250426
DTEND;VALUE=DATE:20250427
END:VEVENT
BEGIN:VTIMEZONE
TZID:Europe/Brussels
END:VTIMEZONE
END:VCALENDAR
