BEGIN:VCALENDAR
PRODID:-//eluceo/ical//2.0/EN
VERSION:2.0
CALSCALE:GREGORIAN
BEGIN:VEVENT
UID:f80dc1097ecff774294a7173c45cd7c0
DTSTAMP:20260420T090924Z
SUMMARY:T- DANSANT
DESCRIPTION:
DTSTART;VALUE=DATE:20160507
DTEND;VALUE=DATE:20160508
END:VEVENT
BEGIN:VTIMEZONE
TZID:Europe/Brussels
END:VTIMEZONE
END:VCALENDAR
