BEGIN:VCALENDAR
PRODID:-//eluceo/ical//2.0/EN
VERSION:2.0
CALSCALE:GREGORIAN
BEGIN:VEVENT
UID:2925e55972d516124a950ec59a8ec667
DTSTAMP:20260420T092149Z
SUMMARY:SHANIR BLUMENKRANZ’ ABRAXAS (US – MASADA TOUR 2016) + PEKKO KÄ
 PPI & K:H:H:L (FI)
DESCRIPTION:
DTSTART;VALUE=DATE:20160520
DTEND;VALUE=DATE:20160521
END:VEVENT
BEGIN:VTIMEZONE
TZID:Europe/Brussels
END:VTIMEZONE
END:VCALENDAR
