BEGIN:VCALENDAR
PRODID:-//eluceo/ical//2.0/EN
VERSION:2.0
CALSCALE:GREGORIAN
BEGIN:VEVENT
UID:ee30ac3ec6e954825b1f5c33dc7450a1
DTSTAMP:20260419T195937Z
SUMMARY:Rien Virgule + Kid Fourteen
DESCRIPTION:
DTSTART;VALUE=DATE:20250404
DTEND;VALUE=DATE:20250405
END:VEVENT
BEGIN:VTIMEZONE
TZID:Europe/Brussels
END:VTIMEZONE
END:VCALENDAR
