BEGIN:VCALENDAR
PRODID:-//eluceo/ical//2.0/EN
VERSION:2.0
CALSCALE:GREGORIAN
BEGIN:VEVENT
UID:58461f862b3284ce90ed6d68f4bf4416
DTSTAMP:20260420T091353Z
SUMMARY:PRINCESSE NÄPALM (FR)
DESCRIPTION:
DTSTART;VALUE=DATE:20160518
DTEND;VALUE=DATE:20160519
END:VEVENT
BEGIN:VTIMEZONE
TZID:Europe/Brussels
END:VTIMEZONE
END:VCALENDAR
