BEGIN:VCALENDAR
PRODID:-//eluceo/ical//2.0/EN
VERSION:2.0
CALSCALE:GREGORIAN
BEGIN:VEVENT
UID:1ca4a503bac33d838a6304e798454b6c
DTSTAMP:20260419T194834Z
SUMMARY:MALA HIERBA: LIGNE 81 (BE) + BerryKimi (BE) + Olvo (BE) + Smimmoz &
  Defi J (BE-dj set)
DESCRIPTION:
DTSTART;VALUE=DATE:20160506
DTEND;VALUE=DATE:20160507
END:VEVENT
BEGIN:VTIMEZONE
TZID:Europe/Brussels
END:VTIMEZONE
END:VCALENDAR
