BEGIN:VCALENDAR
PRODID:-//eluceo/ical//2.0/EN
VERSION:2.0
CALSCALE:GREGORIAN
BEGIN:VEVENT
UID:d483b3fb4cd5ee055a15f24c36c32a30
DTSTAMP:20260420T091810Z
SUMMARY:La plus grande kermesse du monde : Big brother
DESCRIPTION:
DTSTART;VALUE=DATE:20160715
DTEND;VALUE=DATE:20160716
END:VEVENT
BEGIN:VTIMEZONE
TZID:Europe/Brussels
END:VTIMEZONE
END:VCALENDAR
