BEGIN:VCALENDAR
PRODID:-//eluceo/ical//2.0/EN
VERSION:2.0
CALSCALE:GREGORIAN
BEGIN:VEVENT
UID:9e2c2436dfaf7359991e00fc95019394
DTSTAMP:20260420T183739Z
SUMMARY:Heartbroken w/ Mechatorus + Tamanaramen + DV-i + nevrland + Liyo & 
 Steff
DESCRIPTION:
DTSTART;VALUE=DATE:20250614
DTEND;VALUE=DATE:20250615
END:VEVENT
BEGIN:VTIMEZONE
TZID:Europe/Brussels
END:VTIMEZONE
END:VCALENDAR
