BEGIN:VCALENDAR
PRODID:-//eluceo/ical//2.0/EN
VERSION:2.0
CALSCALE:GREGORIAN
BEGIN:VEVENT
UID:3fe83bebd516dc2c485680eb31498045
DTSTAMP:20260420T085835Z
SUMMARY:GLEO
DESCRIPTION:
DTSTART;VALUE=DATE:20160525
DTEND;VALUE=DATE:20160526
END:VEVENT
BEGIN:VTIMEZONE
TZID:Europe/Brussels
END:VTIMEZONE
END:VCALENDAR
