BEGIN:VCALENDAR
PRODID:-//eluceo/ical//2.0/EN
VERSION:2.0
CALSCALE:GREGORIAN
BEGIN:VEVENT
UID:48d0165c281aa3cb0e39dc78971cc7f3
DTSTAMP:20260420T125432Z
SUMMARY:EXTRA FORT: ANNA MESCHIARI (CH/IT) + TINE GUNS (BE)
DESCRIPTION:
DTSTART;VALUE=DATE:20160511
DTEND;VALUE=DATE:20160512
END:VEVENT
BEGIN:VTIMEZONE
TZID:Europe/Brussels
END:VTIMEZONE
END:VCALENDAR
