BEGIN:VCALENDAR
PRODID:-//eluceo/ical//2.0/EN
VERSION:2.0
CALSCALE:GREGORIAN
BEGIN:VEVENT
UID:a5638d7c65ae9fa960d9810efe214c33
DTSTAMP:20260420T091513Z
SUMMARY:Disparate Fanzinotech
DESCRIPTION:
DTSTART;VALUE=DATE:20160721
DTEND;VALUE=DATE:20160730
END:VEVENT
BEGIN:VTIMEZONE
TZID:Europe/Brussels
END:VTIMEZONE
END:VCALENDAR
