BEGIN:VCALENDAR
PRODID:-//eluceo/ical//2.0/EN
VERSION:2.0
CALSCALE:GREGORIAN
BEGIN:VEVENT
UID:45599895850e63c0a228edf0da7f45f5
DTSTAMP:20260420T092234Z
SUMMARY:CONJUNTO PAPA UPA (VE-live) + D.WATTSRIOT (GB-dj) + LOWDJO (BE-dj) 
 + expo + food + workshops
DESCRIPTION:
DTSTART;VALUE=DATE:20160630
DTEND;VALUE=DATE:20160701
END:VEVENT
BEGIN:VTIMEZONE
TZID:Europe/Brussels
END:VTIMEZONE
END:VCALENDAR
