BEGIN:VCALENDAR
PRODID:-//eluceo/ical//2.0/EN
VERSION:2.0
CALSCALE:GREGORIAN
BEGIN:VEVENT
UID:8b56fb4819bdf7a6785ee27eadb06b78
DTSTAMP:20260421T054134Z
SUMMARY:Commizariat B2B Meexbookpro
DESCRIPTION:HOW TO PARTY w/ Annie .adaa\, Caroline Rohn\, Ill Syll\, Jhaya 
 Caupenne\, Jano\, Jesza\, Roxane Leblais\, Sauce Mikameex + ...
DTSTART;VALUE=DATE:20220616
DTEND;VALUE=DATE:20220617
END:VEVENT
BEGIN:VTIMEZONE
TZID:Europe/Brussels
END:VTIMEZONE
END:VCALENDAR
