BEGIN:VCALENDAR
PRODID:-//eluceo/ical//2.0/EN
VERSION:2.0
CALSCALE:GREGORIAN
BEGIN:VEVENT
UID:4b4395c4e656c661abe8bd2168604e2d
DTSTAMP:20260419T194848Z
SUMMARY:CHEVAL METAL TATTOOS + HÉLOÏSE + ROSEBUTCH + TARÔT MASQUÉ + Ech
 o Zines & friends + DENTELLE PARK + DIVINA PIZZA / FIX MY HOLIDAYS
DESCRIPTION:RECYCLART HOLIDAYS #2 ALL-DAY
DTSTART;VALUE=DATE:20230630
DTEND;VALUE=DATE:20230701
END:VEVENT
BEGIN:VTIMEZONE
TZID:Europe/Brussels
END:VTIMEZONE
END:VCALENDAR
