BEGIN:VCALENDAR
PRODID:-//eluceo/ical//2.0/EN
VERSION:2.0
CALSCALE:GREGORIAN
BEGIN:VEVENT
UID:1fc7749782ed45781f5de4ae1f8e096e
DTSTAMP:20260419T195939Z
SUMMARY:Bouncing Boum #2
DESCRIPTION:
DTSTART;VALUE=DATE:20250402
DTEND;VALUE=DATE:20250403
END:VEVENT
BEGIN:VTIMEZONE
TZID:Europe/Brussels
END:VTIMEZONE
END:VCALENDAR
