BEGIN:VCALENDAR
PRODID:-//eluceo/ical//2.0/EN
VERSION:2.0
CALSCALE:GREGORIAN
BEGIN:VEVENT
UID:9f5b9cc500ddfac514e7d0127c775c68
DTSTAMP:20260420T092114Z
SUMMARY:BEWONERSFEESTJE : LES PAVES DU CINEMA MAROLLIEN
DESCRIPTION:
DTSTART;VALUE=DATE:20160514
DTEND;VALUE=DATE:20160515
END:VEVENT
BEGIN:VTIMEZONE
TZID:Europe/Brussels
END:VTIMEZONE
END:VCALENDAR
