BEGIN:VCALENDAR
PRODID:-//eluceo/ical//2.0/EN
VERSION:2.0
CALSCALE:GREGORIAN
BEGIN:VEVENT
UID:4ef6c99e966c3fb5eae58e68e8409a3d
DTSTAMP:20260420T091059Z
SUMMARY:BAS-CONGO
DESCRIPTION:
DTSTART;VALUE=DATE:20160517
DTEND;VALUE=DATE:20160523
END:VEVENT
BEGIN:VTIMEZONE
TZID:Europe/Brussels
END:VTIMEZONE
END:VCALENDAR
