BEGIN:VCALENDAR
PRODID:-//eluceo/ical//2.0/EN
VERSION:2.0
CALSCALE:GREGORIAN
BEGIN:VEVENT
UID:7f864bc12a209f8c6e04fe496f8df0f8
DTSTAMP:20260420T091225Z
SUMMARY:Alan Tex (be)
DESCRIPTION:EX VITRO
DTSTART;VALUE=DATE:20160428
DTEND;VALUE=DATE:20160516
END:VEVENT
BEGIN:VTIMEZONE
TZID:Europe/Brussels
END:VTIMEZONE
END:VCALENDAR
