BEGIN:VCALENDAR
PRODID:-//eluceo/ical//2.0/EN
VERSION:2.0
CALSCALE:GREGORIAN
BEGIN:VEVENT
UID:e48e1128e2437047f7dc234efe703dd4
DTSTAMP:20260419T200612Z
SUMMARY:SPOILERROOM #2 : BONNIE BANANE (FR) + RIN (US) + SHETAHR (BE) + DJ 
 PHONETICS (BE) + UGNE & MARIA (BE) + DJ CARLOS CAPSLOCK (& MAYBE ZWANGERE 
 GUY)
DESCRIPTION:
DTSTART;VALUE=DATE:20160507
DTEND;VALUE=DATE:20160508
END:VEVENT
BEGIN:VTIMEZONE
TZID:Europe/Brussels
END:VTIMEZONE
END:VCALENDAR
