BEGIN:VCALENDAR
PRODID:-//eluceo/ical//2.0/EN
VERSION:2.0
CALSCALE:GREGORIAN
BEGIN:VEVENT
UID:59b2a64935ea5c3945c4936456e93624
DTSTAMP:20260419T200051Z
SUMMARY:Soul Feeder w/
DESCRIPTION:
DTSTART;VALUE=DATE:20241108
DTEND;VALUE=DATE:20241109
END:VEVENT
BEGIN:VTIMEZONE
TZID:Europe/Brussels
END:VTIMEZONE
END:VCALENDAR
