BEGIN:VCALENDAR
PRODID:-//eluceo/ical//2.0/EN
VERSION:2.0
CALSCALE:GREGORIAN
BEGIN:VEVENT
UID:db35d89fb1449e2579dc88c7fb838347
DTSTAMP:20260420T091626Z
SUMMARY:RURRU (CO) : artist talk
DESCRIPTION:
DTSTART;VALUE=DATE:20160601
DTEND;VALUE=DATE:20160602
END:VEVENT
BEGIN:VTIMEZONE
TZID:Europe/Brussels
END:VTIMEZONE
END:VCALENDAR
