BEGIN:VCALENDAR
PRODID:-//eluceo/ical//2.0/EN
VERSION:2.0
CALSCALE:GREGORIAN
BEGIN:VEVENT
UID:f685ef86fcfdb7cb0acdade5962b8659
DTSTAMP:20260420T085622Z
SUMMARY:REPAIR CAFÉ
DESCRIPTION:
DTSTART;VALUE=DATE:20160503
DTEND;VALUE=DATE:20160504
END:VEVENT
BEGIN:VTIMEZONE
TZID:Europe/Brussels
END:VTIMEZONE
END:VCALENDAR
