BEGIN:VCALENDAR
PRODID:-//eluceo/ical//2.0/EN
VERSION:2.0
CALSCALE:GREGORIAN
BEGIN:VEVENT
UID:b9d2cfbe011046f351dcbbc7447a97fe
DTSTAMP:20260420T091804Z
SUMMARY:RADIO CAMPUS PRESENTS ‘CARNAVAL DANS TA TÊTE’
DESCRIPTION:
DTSTART;VALUE=DATE:20160527
DTEND;VALUE=DATE:20160528
END:VEVENT
BEGIN:VTIMEZONE
TZID:Europe/Brussels
END:VTIMEZONE
END:VCALENDAR
