BEGIN:VCALENDAR
PRODID:-//eluceo/ical//2.0/EN
VERSION:2.0
CALSCALE:GREGORIAN
BEGIN:VEVENT
UID:20c77da6932d1eea45bad59918d73637
DTSTAMP:20260419T132938Z
SUMMARY:OLGA PASTEKOVA : SHE TOOK A BASKET AND SET OUT TO THE WOODS
DESCRIPTION:expo
DTSTART;VALUE=DATE:20161027
DTEND;VALUE=DATE:20161119
END:VEVENT
BEGIN:VTIMEZONE
TZID:Europe/Brussels
END:VTIMEZONE
END:VCALENDAR
