BEGIN:VCALENDAR
PRODID:-//eluceo/ical//2.0/EN
VERSION:2.0
CALSCALE:GREGORIAN
BEGIN:VEVENT
UID:21a3f93490c4900bc072a17c3681bb1c
DTSTAMP:20260420T092101Z
SUMMARY:NUITS DU BEAU TAS : REFURINN KITSUNE (BE) + BABY KRUGER (FR/BE)
DESCRIPTION:
DTSTART;VALUE=DATE:20160512
DTEND;VALUE=DATE:20160513
END:VEVENT
BEGIN:VTIMEZONE
TZID:Europe/Brussels
END:VTIMEZONE
END:VCALENDAR
