BEGIN:VCALENDAR
PRODID:-//eluceo/ical//2.0/EN
VERSION:2.0
CALSCALE:GREGORIAN
BEGIN:VEVENT
UID:f0cc41376046c2ef11241f0b9b0bf3ba
DTSTAMP:20260419T200454Z
SUMMARY:My Body Is My Club Viewing Party
DESCRIPTION:w/ Charlove Angel + Guests
DTSTART;VALUE=DATE:20231027
DTEND;VALUE=DATE:20231028
END:VEVENT
BEGIN:VTIMEZONE
TZID:Europe/Brussels
END:VTIMEZONE
END:VCALENDAR
