BEGIN:VCALENDAR
PRODID:-//eluceo/ical//2.0/EN
VERSION:2.0
CALSCALE:GREGORIAN
BEGIN:VEVENT
UID:bc17271dc4b994964b7af42f5056fb65
DTSTAMP:20260420T091614Z
SUMMARY:Michal Iwanovski + Joseph Charroy
DESCRIPTION:Extra Fort
DTSTART;VALUE=DATE:20161123
DTEND;VALUE=DATE:20161124
END:VEVENT
BEGIN:VTIMEZONE
TZID:Europe/Brussels
END:VTIMEZONE
END:VCALENDAR
