BEGIN:VCALENDAR
PRODID:-//eluceo/ical//2.0/EN
VERSION:2.0
CALSCALE:GREGORIAN
BEGIN:VEVENT
UID:5ce2853e05c45b36e3f3a2babc1df958
DTSTAMP:20260419T200104Z
SUMMARY:Méryll Ampe | Ars Musica - Urban Nature
DESCRIPTION:
DTSTART;VALUE=DATE:20241121
DTEND;VALUE=DATE:20241122
END:VEVENT
BEGIN:VTIMEZONE
TZID:Europe/Brussels
END:VTIMEZONE
END:VCALENDAR
