BEGIN:VCALENDAR
PRODID:-//eluceo/ical//2.0/EN
VERSION:2.0
CALSCALE:GREGORIAN
BEGIN:VEVENT
UID:f0f661a6a228d50816a992a41115b460
DTSTAMP:20260420T091903Z
SUMMARY:MARIACHI RELOADED (MX/BE) + RURRU (MX) + Darkam Arcadia
DESCRIPTION:ex vitro
DTSTART;VALUE=DATE:20160526
DTEND;VALUE=DATE:20160527
END:VEVENT
BEGIN:VTIMEZONE
TZID:Europe/Brussels
END:VTIMEZONE
END:VCALENDAR
