BEGIN:VCALENDAR
PRODID:-//eluceo/ical//2.0/EN
VERSION:2.0
CALSCALE:GREGORIAN
BEGIN:VEVENT
UID:7cd810eb2233cecd01a8ce4ea1a927d9
DTSTAMP:20260420T091956Z
SUMMARY:LES ATELIERS CLAUS PRESENT : PSYCHIC TV (GB) + AIKULA (SL)
DESCRIPTION:
DTSTART;VALUE=DATE:20160521
DTEND;VALUE=DATE:20160522
END:VEVENT
BEGIN:VTIMEZONE
TZID:Europe/Brussels
END:VTIMEZONE
END:VCALENDAR
