BEGIN:VCALENDAR
PRODID:-//eluceo/ical//2.0/EN
VERSION:2.0
CALSCALE:GREGORIAN
BEGIN:VEVENT
UID:2730f0800ede51d3e0ae597b83e2e80f
DTSTAMP:20260420T091440Z
SUMMARY:KUBB at RECYLART !
DESCRIPTION:
DTSTART;VALUE=DATE:20160721
DTEND;VALUE=DATE:20160722
END:VEVENT
BEGIN:VTIMEZONE
TZID:Europe/Brussels
END:VTIMEZONE
END:VCALENDAR
