BEGIN:VCALENDAR
PRODID:-//eluceo/ical//2.0/EN
VERSION:2.0
CALSCALE:GREGORIAN
BEGIN:VEVENT
UID:f323b54ea6e63d35a767adcde87d2149
DTSTAMP:20260420T091946Z
SUMMARY:Julinho da Concertina quartet (cpv/pt - live) + CELESTE MARIPOSA (P
 T - DJ)
DESCRIPTION:
DTSTART;VALUE=DATE:20160721
DTEND;VALUE=DATE:20160722
END:VEVENT
BEGIN:VTIMEZONE
TZID:Europe/Brussels
END:VTIMEZONE
END:VCALENDAR
