BEGIN:VCALENDAR
PRODID:-//eluceo/ical//2.0/EN
VERSION:2.0
CALSCALE:GREGORIAN
BEGIN:VEVENT
UID:ac90ee8f2cefaae0032d035c9584766c
DTSTAMP:20260420T090811Z
SUMMARY:grégoire bergeret & julia kremer: artist talk
DESCRIPTION:
DTSTART;VALUE=DATE:20160517
DTEND;VALUE=DATE:20160518
END:VEVENT
BEGIN:VTIMEZONE
TZID:Europe/Brussels
END:VTIMEZONE
END:VCALENDAR
