BEGIN:VCALENDAR
PRODID:-//eluceo/ical//2.0/EN
VERSION:2.0
CALSCALE:GREGORIAN
BEGIN:VEVENT
UID:152ddd1ed43734225c1904cf8fff6873
DTSTAMP:20260420T092114Z
SUMMARY:EXTRA FORT: ANNE-CAMILLE ALLUEVA (FR) + HÉLÈNE AMOUZOU (TG/BE)
DESCRIPTION:
DTSTART;VALUE=DATE:20160528
DTEND;VALUE=DATE:20160529
END:VEVENT
BEGIN:VTIMEZONE
TZID:Europe/Brussels
END:VTIMEZONE
END:VCALENDAR
