BEGIN:VCALENDAR
PRODID:-//eluceo/ical//2.0/EN
VERSION:2.0
CALSCALE:GREGORIAN
BEGIN:VEVENT
UID:22a3f09487072709febaf92a2382afcd
DTSTAMP:20260419T201136Z
SUMMARY:DRUM ROOM PRESENTS STRICTLY JUNGLE #2: SERIAL KILLAZ (GB) + BMAN (B
 E) + BENONESHOT (BE) + INTRUDER MC (BE) + LEFTY (BE) + ZOMBEATS (BE) + HIG
 H 'N' IRIE SOUNDSYSTEM (BE)
DESCRIPTION:
DTSTART;VALUE=DATE:20160513
DTEND;VALUE=DATE:20160514
END:VEVENT
BEGIN:VTIMEZONE
TZID:Europe/Brussels
END:VTIMEZONE
END:VCALENDAR
