BEGIN:VCALENDAR
PRODID:-//eluceo/ical//2.0/EN
VERSION:2.0
CALSCALE:GREGORIAN
BEGIN:VEVENT
UID:23184ddc1cce99a58a9bb1fe0f34fab9
DTSTAMP:20260420T091258Z
SUMMARY:CURATING THE STATION
DESCRIPTION:"The traveler's show"
DTSTART;VALUE=DATE:20160414
DTEND;VALUE=DATE:20160526
END:VEVENT
BEGIN:VTIMEZONE
TZID:Europe/Brussels
END:VTIMEZONE
END:VCALENDAR
