BEGIN:VCALENDAR
PRODID:-//eluceo/ical//2.0/EN
VERSION:2.0
CALSCALE:GREGORIAN
BEGIN:VEVENT
UID:d3d5ef392803a3ecb03c9c132f916377
DTSTAMP:20260420T090405Z
SUMMARY:ANTIGONE MICHALAKOPOULOU (GR): GEOGRAPHIA
DESCRIPTION:
DTSTART;VALUE=DATE:20160520
DTEND;VALUE=DATE:20160528
END:VEVENT
BEGIN:VTIMEZONE
TZID:Europe/Brussels
END:VTIMEZONE
END:VCALENDAR
