BEGIN:VCALENDAR
PRODID:-//eluceo/ical//2.0/EN
VERSION:2.0
CALSCALE:GREGORIAN
BEGIN:VEVENT
UID:13aa0eedd5343d4f2fdf5c15feed5800
DTSTAMP:20260420T090723Z
SUMMARY:Anouk Kellner: waiting for land
DESCRIPTION:BA RITCS School of Arts - Radio
DTSTART;VALUE=DATE:20220610
DTEND;VALUE=DATE:20220611
END:VEVENT
BEGIN:VTIMEZONE
TZID:Europe/Brussels
END:VTIMEZONE
END:VCALENDAR
